BEGIN:VCALENDAR
VERSION:2.0
PRODID:-//Elternverein für krebskranke Kinder und ihre Familien - ECPv6.15.20//NONSGML v1.0//EN
CALSCALE:GREGORIAN
METHOD:PUBLISH
X-WR-CALNAME:Elternverein für krebskranke Kinder und ihre Familien
X-ORIGINAL-URL:https://ev-krebskranke-kinder.de
X-WR-CALDESC:Veranstaltungen für Elternverein für krebskranke Kinder und ihre Familien
REFRESH-INTERVAL;VALUE=DURATION:PT1H
X-Robots-Tag:noindex
X-PUBLISHED-TTL:PT1H
BEGIN:VTIMEZONE
TZID:Europe/Berlin
BEGIN:DAYLIGHT
TZOFFSETFROM:+0100
TZOFFSETTO:+0200
TZNAME:CEST
DTSTART:20250330T010000
END:DAYLIGHT
BEGIN:STANDARD
TZOFFSETFROM:+0200
TZOFFSETTO:+0100
TZNAME:CET
DTSTART:20251026T010000
END:STANDARD
BEGIN:DAYLIGHT
TZOFFSETFROM:+0100
TZOFFSETTO:+0200
TZNAME:CEST
DTSTART:20260329T010000
END:DAYLIGHT
BEGIN:STANDARD
TZOFFSETFROM:+0200
TZOFFSETTO:+0100
TZNAME:CET
DTSTART:20261025T010000
END:STANDARD
BEGIN:DAYLIGHT
TZOFFSETFROM:+0100
TZOFFSETTO:+0200
TZNAME:CEST
DTSTART:20270328T010000
END:DAYLIGHT
BEGIN:STANDARD
TZOFFSETFROM:+0200
TZOFFSETTO:+0100
TZNAME:CET
DTSTART:20271031T010000
END:STANDARD
END:VTIMEZONE
BEGIN:VEVENT
DTSTART;TZID=Europe/Berlin:20260422T190000
DTEND;TZID=Europe/Berlin:20260422T210000
DTSTAMP:20260421T093825
CREATED:20260105T201551Z
LAST-MODIFIED:20260105T201842Z
UID:3513-1776884400-1776891600@ev-krebskranke-kinder.de
SUMMARY:Elternabend in Moormerland - 22.04.2026
DESCRIPTION:Elternabend für unsere Mitglieder in Leer und Umgebung. Gerne könnt ihr euch über das Formular anmelden. \n\n\n  \n\n\n\n Dein Name*\n \n \n Deine E-Mail-Adresse*\n \n \n Deine Telefonnummer*\n \n \n Anzahl an Personen*\n \n \n Namen der Personen (Bitte mit Komma trennen)\n \n \n Deine Nachricht\n \n \n\nIch stimme der Verarbeitung meiner Daten zu. Weitere Details finden Sie in der (Datenschutzerklärung). \n \n\n \n* Pflichfelder
URL:https://ev-krebskranke-kinder.de/termin/elternabend-in-moormerland-22-04-2026/
END:VEVENT
BEGIN:VEVENT
DTSTART;VALUE=DATE:20260502
DTEND;VALUE=DATE:20260503
DTSTAMP:20260421T093825
CREATED:20260105T201755Z
LAST-MODIFIED:20260105T201755Z
UID:3515-1777680000-1777766399@ev-krebskranke-kinder.de
SUMMARY:Treffen Gesprächsgruppe verwaister Eltern - 02.05.2026
DESCRIPTION:
URL:https://ev-krebskranke-kinder.de/termin/treffen-gespraechsgruppe-verwaister-eltern-02-05-2026/
END:VEVENT
BEGIN:VEVENT
DTSTART;TZID=Europe/Berlin:20260522T150000
DTEND;TZID=Europe/Berlin:20260525T170000
DTSTAMP:20260421T093825
CREATED:20260105T203308Z
LAST-MODIFIED:20260105T203308Z
UID:3528-1779462000-1779728400@ev-krebskranke-kinder.de
SUMMARY:Familienfreizeit in Neuharlingersiel
DESCRIPTION:
URL:https://ev-krebskranke-kinder.de/termin/familienfreizeit-in-neuharlingersiel/
END:VEVENT
BEGIN:VEVENT
DTSTART;TZID=Europe/Berlin:20260531T150000
DTEND;TZID=Europe/Berlin:20260531T190000
DTSTAMP:20260421T093825
CREATED:20260105T203456Z
LAST-MODIFIED:20260105T203456Z
UID:3530-1780239600-1780254000@ev-krebskranke-kinder.de
SUMMARY:Mitgliederversammlung im Landhaus Oltmanns\, Moormerland
DESCRIPTION:
URL:https://ev-krebskranke-kinder.de/termin/mitgliederversammlung-im-landhaus-oltmanns-moormerland/
END:VEVENT
BEGIN:VEVENT
DTSTART;VALUE=DATE:20260628
DTEND;VALUE=DATE:20260629
DTSTAMP:20260421T093825
CREATED:20260105T203524Z
LAST-MODIFIED:20260105T204026Z
UID:3532-1782604800-1782691199@ev-krebskranke-kinder.de
SUMMARY:Sommerfahrt 2026
DESCRIPTION:
URL:https://ev-krebskranke-kinder.de/termin/sommerfahrt-2026/
END:VEVENT
BEGIN:VEVENT
DTSTART;VALUE=DATE:20260711
DTEND;VALUE=DATE:20260713
DTSTAMP:20260421T093825
CREATED:20260105T203626Z
LAST-MODIFIED:20260105T203626Z
UID:3534-1783728000-1783900799@ev-krebskranke-kinder.de
SUMMARY:Sommerfahrt der Gesprächsgruppe verwaister Eltern 2026
DESCRIPTION:
URL:https://ev-krebskranke-kinder.de/termin/sommerfahrt-der-gespraechsgruppe-verwaister-eltern-2026/
END:VEVENT
BEGIN:VEVENT
DTSTART;TZID=Europe/Berlin:20260726T100000
DTEND;TZID=Europe/Berlin:20260726T170000
DTSTAMP:20260421T093825
CREATED:20260105T203850Z
LAST-MODIFIED:20260105T203850Z
UID:3536-1785060000-1785085200@ev-krebskranke-kinder.de
SUMMARY:Kinderfest in Greetsiel 26.07.2026
DESCRIPTION:Für das Kinderfest suchen wir fleißige Helfer. Gerne könnt ihr euch über das Formular als Helfer anmelden. Danke. \n\n\n  \n\n\n\n Dein Name*\n \n \n Deine E-Mail-Adresse*\n \n \n Deine Telefonnummer*\n \n \n Anzahl an Personen*\n \n \n Namen der Personen (Bitte mit Komma trennen)\n \n \n Deine Nachricht\n \n \n\nIch stimme der Verarbeitung meiner Daten zu. Weitere Details finden Sie in der (Datenschutzerklärung). \n \n\n \n* Pflichfelder
URL:https://ev-krebskranke-kinder.de/termin/kinderfest-in-greetsiel-26-07-2026/
END:VEVENT
BEGIN:VEVENT
DTSTART;TZID=Europe/Berlin:20260819T190000
DTEND;TZID=Europe/Berlin:20260819T210000
DTSTAMP:20260421T093825
CREATED:20260105T202407Z
LAST-MODIFIED:20260105T202407Z
UID:3518-1787166000-1787173200@ev-krebskranke-kinder.de
SUMMARY:Elternabend in Aurich - 19.08.2026
DESCRIPTION:Elternabend für unsere Mitglieder in Aurich und Umgebung. Gerne könnt ihr euch über das Formular anmelden. \n\n\n  \n\n\n\n Dein Name*\n \n \n Deine E-Mail-Adresse*\n \n \n Deine Telefonnummer*\n \n \n Anzahl an Personen*\n \n \n Namen der Personen (Bitte mit Komma trennen)\n \n \n Deine Nachricht\n \n \n\nIch stimme der Verarbeitung meiner Daten zu. Weitere Details finden Sie in der (Datenschutzerklärung). \n \n\n \n* Pflichfelder
URL:https://ev-krebskranke-kinder.de/termin/elternabend-in-aurich-19-08-2026/
END:VEVENT
BEGIN:VEVENT
DTSTART;TZID=Europe/Berlin:20260823T110000
DTEND;TZID=Europe/Berlin:20260823T180000
DTSTAMP:20260421T093825
CREATED:20260105T204126Z
LAST-MODIFIED:20260105T204126Z
UID:3539-1787482800-1787508000@ev-krebskranke-kinder.de
SUMMARY:Sommerfest im Gulfhof Engerhafe 2026
DESCRIPTION:
URL:https://ev-krebskranke-kinder.de/termin/sommerfest-im-gulfhof-engerhafe-2026/
END:VEVENT
BEGIN:VEVENT
DTSTART;TZID=Europe/Berlin:20260826T190000
DTEND;TZID=Europe/Berlin:20260826T210000
DTSTAMP:20260421T093825
CREATED:20260105T202638Z
LAST-MODIFIED:20260105T202638Z
UID:3520-1787770800-1787778000@ev-krebskranke-kinder.de
SUMMARY:Elternabend in Moormerland - 26.08.2026
DESCRIPTION:Elternabend für unsere Mitglieder in Leer und Umgebung. Gerne könnt ihr euch über das Formular anmelden. \n\n\n  \n\n\n\n Dein Name*\n \n \n Deine E-Mail-Adresse*\n \n \n Deine Telefonnummer*\n \n \n Anzahl an Personen*\n \n \n Namen der Personen (Bitte mit Komma trennen)\n \n \n Deine Nachricht\n \n \n\nIch stimme der Verarbeitung meiner Daten zu. Weitere Details finden Sie in der (Datenschutzerklärung). \n \n\n \n* Pflichfelder
URL:https://ev-krebskranke-kinder.de/termin/elternabend-in-moormerland-26-08-2026/
END:VEVENT
BEGIN:VEVENT
DTSTART;TZID=Europe/Berlin:20260912T100000
DTEND;TZID=Europe/Berlin:20260912T170000
DTSTAMP:20260421T093825
CREATED:20260106T205233Z
LAST-MODIFIED:20260106T205246Z
UID:3545-1789207200-1789232400@ev-krebskranke-kinder.de
SUMMARY:Herbstbasar bei Möbel Frühling 12.09.2026
DESCRIPTION:
URL:https://ev-krebskranke-kinder.de/termin/herbstbasar-bei-moebel-fruehling/
END:VEVENT
BEGIN:VEVENT
DTSTART;TZID=Europe/Berlin:20260912T140000
DTEND;TZID=Europe/Berlin:20260912T210000
DTSTAMP:20260421T093825
CREATED:20260106T205106Z
LAST-MODIFIED:20260106T205106Z
UID:3542-1789221600-1789246800@ev-krebskranke-kinder.de
SUMMARY:Männer- und Papa-Tour 12.09.2026
DESCRIPTION:Wir fahren nach Bremen zum Co-Kart fahren mit anschließenden Abendessen. \nDie Teilnehmerplätze sind begrenzt\, wer dabei sein möchte\, meldet sich bitte über das Formular hier an. \nDie Anmeldefrist endet am 29.08.2026! Sollten mehr Anmeldungen als Plätze eingehen\, entscheidet das Los. \n\n\n  \n\n\n\n Dein Name*\n \n \n Deine E-Mail-Adresse*\n \n \n Deine Telefonnummer*\n \n \n Anzahl an Personen*\n \n \n Namen der Personen (Bitte mit Komma trennen)\n \n \n Deine Nachricht\n \n \n\nIch stimme der Verarbeitung meiner Daten zu. Weitere Details finden Sie in der (Datenschutzerklärung). \n \n\n \n* Pflichfelder
URL:https://ev-krebskranke-kinder.de/termin/maenner-und-papa-tour-12-09-2026/
END:VEVENT
BEGIN:VEVENT
DTSTART;TZID=Europe/Berlin:20260913T100000
DTEND;TZID=Europe/Berlin:20260913T170000
DTSTAMP:20260421T093825
CREATED:20260106T205321Z
LAST-MODIFIED:20260106T205321Z
UID:3548-1789293600-1789318800@ev-krebskranke-kinder.de
SUMMARY:Herbstbasar bei Möbel Frühling 13.09.2026
DESCRIPTION:
URL:https://ev-krebskranke-kinder.de/termin/herbstbasar-bei-moebel-fruehling-13-09-2026/
END:VEVENT
BEGIN:VEVENT
DTSTART;TZID=Europe/Berlin:20260926T140000
DTEND;TZID=Europe/Berlin:20260926T180000
DTSTAMP:20260421T093825
CREATED:20260303T191835Z
LAST-MODIFIED:20260303T191835Z
UID:3578-1790431200-1790445600@ev-krebskranke-kinder.de
SUMMARY:Mütter- & Frauentour 26.06.2026
DESCRIPTION:Mit der E-Clubdraisine durch das wunderschöne Ammerland. \nTreffpunkt ist am Draisinenbahnhof Westerstede. \nDie Teilnehmerplätze sind begrenzt\, wer dabei sein möchte\, meldet sich bitte über das Formular hier an. \nDie Anmeldefrist endet am 31.08.2026! Sollten mehr Anmeldungen als Plätze eingehen\, entscheidet das Los. \n\n\n  \n\n\n\n Dein Name*\n \n \n Deine E-Mail-Adresse*\n \n \n Deine Telefonnummer*\n \n \n Anzahl an Personen*\n \n \n Namen der Personen (Bitte mit Komma trennen)\n \n \n Deine Nachricht\n \n \n\nIch stimme der Verarbeitung meiner Daten zu. Weitere Details finden Sie in der (Datenschutzerklärung). \n \n\n \n* Pflichfelder
URL:https://ev-krebskranke-kinder.de/termin/muetter-frauentour-26-06-2026/
END:VEVENT
BEGIN:VEVENT
DTSTART;TZID=Europe/Berlin:20261104T190000
DTEND;TZID=Europe/Berlin:20261104T210000
DTSTAMP:20260421T093825
CREATED:20260105T202944Z
LAST-MODIFIED:20260105T202944Z
UID:3522-1793818800-1793826000@ev-krebskranke-kinder.de
SUMMARY:Elternabend in Aurich - 04.11.2026
DESCRIPTION:Elternabend für unsere Mitglieder in Aurich und Umgebung. Gerne könnt ihr euch über das Formular anmelden. \n\n\n  \n\n\n\n Dein Name*\n \n \n Deine E-Mail-Adresse*\n \n \n Deine Telefonnummer*\n \n \n Anzahl an Personen*\n \n \n Namen der Personen (Bitte mit Komma trennen)\n \n \n Deine Nachricht\n \n \n\nIch stimme der Verarbeitung meiner Daten zu. Weitere Details finden Sie in der (Datenschutzerklärung). \n \n\n \n* Pflichfelder
URL:https://ev-krebskranke-kinder.de/termin/elternabend-in-aurich-04-11-2026/
END:VEVENT
BEGIN:VEVENT
DTSTART;TZID=Europe/Berlin:20261106T180000
DTEND;TZID=Europe/Berlin:20261106T233000
DTSTAMP:20260421T093825
CREATED:20260105T203200Z
LAST-MODIFIED:20260105T203200Z
UID:3526-1793988000-1794007800@ev-krebskranke-kinder.de
SUMMARY:November Rain - Benefizkonzert
DESCRIPTION:
URL:https://ev-krebskranke-kinder.de/termin/november-rain-benefizkonzert/
END:VEVENT
BEGIN:VEVENT
DTSTART;TZID=Europe/Berlin:20261111T190000
DTEND;TZID=Europe/Berlin:20261111T210000
DTSTAMP:20260421T093825
CREATED:20260105T203103Z
LAST-MODIFIED:20260105T203935Z
UID:3524-1794423600-1794430800@ev-krebskranke-kinder.de
SUMMARY:Elternabend in Moormerland - 11.11.2026
DESCRIPTION:Elternabend für unsere Mitglieder in Leer und Umgebung. Gerne könnt ihr euch über das Formular anmelden. \n\n\n  \n\n\n\n Dein Name*\n \n \n Deine E-Mail-Adresse*\n \n \n Deine Telefonnummer*\n \n \n Anzahl an Personen*\n \n \n Namen der Personen (Bitte mit Komma trennen)\n \n \n Deine Nachricht\n \n \n\nIch stimme der Verarbeitung meiner Daten zu. Weitere Details finden Sie in der (Datenschutzerklärung). \n \n\n \n* Pflichfelder
URL:https://ev-krebskranke-kinder.de/termin/elternabend-in-moormerland-11-11-2026/
END:VEVENT
BEGIN:VEVENT
DTSTART;VALUE=DATE:20261121
DTEND;VALUE=DATE:20261122
DTSTAMP:20260421T093825
CREATED:20260106T205505Z
LAST-MODIFIED:20260106T205505Z
UID:3550-1795219200-1795305599@ev-krebskranke-kinder.de
SUMMARY:Treffen der Gesprächsgruppe verwaister Eltern
DESCRIPTION:
URL:https://ev-krebskranke-kinder.de/termin/treffen-der-gespraechsgruppe-verwaister-eltern-2/
END:VEVENT
BEGIN:VEVENT
DTSTART;TZID=Europe/Berlin:20261127T080000
DTEND;TZID=Europe/Berlin:20261127T170000
DTSTAMP:20260421T093825
CREATED:20260106T210131Z
LAST-MODIFIED:20260106T210131Z
UID:3559-1795766400-1795798800@ev-krebskranke-kinder.de
SUMMARY:Weihnachtsverkauf mit Tombola bei Albert Wilts\, Marienhafe
DESCRIPTION:
URL:https://ev-krebskranke-kinder.de/termin/weihnachtsverkauf-mit-tombola-bei-albert-wilts-marienhafe/
END:VEVENT
BEGIN:VEVENT
DTSTART;TZID=Europe/Berlin:20261129T120000
DTEND;TZID=Europe/Berlin:20261129T180000
DTSTAMP:20260421T093825
CREATED:20260106T205842Z
LAST-MODIFIED:20260106T205931Z
UID:3552-1795953600-1795975200@ev-krebskranke-kinder.de
SUMMARY:Weihnachtsmarkt aachter d´Waag\, Klottje Huus Leer 29.11.26
DESCRIPTION:Wir sind wieder zu Gast Klootjehuus Leer und brauchen tatkräftige Unterstützung durch euch. Es werden fleißige Bäckerinnen und Bäcker gesucht\, sowie fleißige Hände für den Verkauf und der Arbeit im Hintergrund! \nGerne kannst du dich bereits hierfür anmelden. Schreib bitte dazu\, wieviel Kuchen/Torten du mitbringt und mit wieviel Personen du uns unterstützen möchtest. \n\n\n  \n\n\n\n Dein Name*\n \n \n Deine E-Mail-Adresse*\n \n \n Deine Telefonnummer*\n \n \n Anzahl an Personen*\n \n \n Namen der Personen (Bitte mit Komma trennen)\n \n \n Deine Nachricht\n \n \n\nIch stimme der Verarbeitung meiner Daten zu. Weitere Details finden Sie in der (Datenschutzerklärung). \n \n\n \n* Pflichfelder
URL:https://ev-krebskranke-kinder.de/termin/weihnachtsmarkt-aachter-dwaag-klottje-huus-leer-29-11-26/
END:VEVENT
BEGIN:VEVENT
DTSTART;TZID=Europe/Berlin:20261206T103000
DTEND;TZID=Europe/Berlin:20261206T180000
DTSTAMP:20260421T093825
CREATED:20260106T210239Z
LAST-MODIFIED:20260106T210239Z
UID:3561-1796553000-1796580000@ev-krebskranke-kinder.de
SUMMARY:Weihnachtsfeier in Aurich im Kino / Stadthalle
DESCRIPTION:
URL:https://ev-krebskranke-kinder.de/termin/weihnachtsfeier-in-aurich-im-kino-stadthalle-2/
END:VEVENT
BEGIN:VEVENT
DTSTART;TZID=Europe/Berlin:20261213T120000
DTEND;TZID=Europe/Berlin:20261213T180000
DTSTAMP:20260421T093825
CREATED:20260106T210025Z
LAST-MODIFIED:20260106T210025Z
UID:3554-1797163200-1797184800@ev-krebskranke-kinder.de
SUMMARY:Weihnachtsmarkt aachter d´Waag\, Klottje Huus Leer 13.12.2026
DESCRIPTION:Wir sind wieder zu Gast Klootjehuus Leer und brauchen tatkräftige Unterstützung durch euch. Es werden fleißige Bäckerinnen und Bäcker gesucht\, sowie fleißige Hände für den Verkauf und der Arbeit im Hintergrund! \nGerne kannst du dich bereits hierfür anmelden. Schreib bitte dazu\, wieviel Kuchen/Torten du mitbringt und mit wieviel Personen du uns unterstützen möchtest. \n\n\n  \n\n\n\n Dein Name*\n \n \n Deine E-Mail-Adresse*\n \n \n Deine Telefonnummer*\n \n \n Anzahl an Personen*\n \n \n Namen der Personen (Bitte mit Komma trennen)\n \n \n Deine Nachricht\n \n \n\nIch stimme der Verarbeitung meiner Daten zu. Weitere Details finden Sie in der (Datenschutzerklärung). \n \n\n \n* Pflichfelder
URL:https://ev-krebskranke-kinder.de/termin/weihnachtsmarkt-aachter-dwaag-klottje-huus-leer-13-12-2026/
END:VEVENT
END:VCALENDAR